BEGIN:VCALENDAR
VERSION:2.0
PRODID:-//wp-events-plugin.com//7.2.3.1//EN
BEGIN:VEVENT
UID:50@funktionsmodellbau.ch
DTSTART:20170401T080000Z
DTEND:20170401T160000Z
DTSTAMP:20170302T180414Z
URL:https://www.funktionsmodellbau.ch/content/veranstaltungen/wemu-ch-open
 -day-2017/
SUMMARY:wemu.ch - OPEN DAY 2017 - wemu.ch - open day - 1 Apr. 17 09:00
DESCRIPTION:Der alljähriche OPEN DAY jährt sich dieses Jahr zum 5ten ma
 l.\n\n \n\nAktuelle und offizielle Informationen
CATEGORIES:Events
LOCATION:wemu.ch - open day\, Bernerstrasse Nord 180\, Zürich\, 8064\, Sch
 weiz
GEO:47.3954099;8.487202400000001
X-APPLE-STRUCTURED-LOCATION;VALUE=URI;X-ADDRESS=Bernerstrasse Nord 180\, Z
 ürich\, 8064\, Schweiz;X-APPLE-RADIUS=100;X-TITLE=wemu.ch - open day:geo:
 47.3954099,8.487202400000001
END:VEVENT
END:VCALENDAR