BEGIN:VCALENDAR
VERSION:2.0
PRODID:-//wp-events-plugin.com//7.2.3.1//EN
BEGIN:VEVENT
UID:10@funktionsmodellbau.ch
DTSTART:20111015T090000Z
DTEND:20111016T160000Z
DTSTAMP:20120103T144856Z
URL:https://www.funktionsmodellbau.ch/content/veranstaltungen/trial-und-sc
 ale-schaufharen-in-langenthal-2011/
SUMMARY:Trial- und Scale-Schaufharen in Langenthal 2011 - Industrie Nord - 
 15 Okt. 11 10:00
DESCRIPTION:Die Modellbaugruppe Huttwil und Umgebung organisiert ein\n\nRC-
 Trial- und Scale Schaufahren in Langenthal\n\nRC-Elektro 1:10-1:14\nEintri
 tt Frei\nFreies Fahren\nFestwirtschaft\n\nWann:\n\nSa. 12.00-24.00\nSo. 10
 .00-17.00\n\nOrt:\n\nIndustrie Nord\nFirma Kuert &amp\; Co AG\nGaswerkstra
 sse 48\n4900 Langenthal\n\nWeitere Informationen:\n\nrccrawler.ch
CATEGORIES:Events
LOCATION:Industrie Nord\, Gaswerkstrasse 48\, Langenthal\, 4900\, Schweiz
GEO:47.2276;7.78905
X-APPLE-STRUCTURED-LOCATION;VALUE=URI;X-ADDRESS=Gaswerkstrasse 48\, Langent
 hal\, 4900\, Schweiz;X-APPLE-RADIUS=100;X-TITLE=Industrie Nord:geo:47.2276
 ,7.78905
END:VEVENT
END:VCALENDAR