BEGIN:VCALENDAR
VERSION:2.0
PRODID:-//wp-events-plugin.com//7.2.3.1//EN
BEGIN:VEVENT
UID:25@funktionsmodellbau.ch
DTSTART;VALUE=DATE:20120913
DTEND;VALUE=DATE:20120914
DTSTAMP:20120913T063707Z
URL:https://www.funktionsmodellbau.ch/content/veranstaltungen/testeintrag-
 2/
SUMMARY:Testeintrag - Zürich - 13 Sep. 12 00:00
DESCRIPTION:Testeintrag
LOCATION:Zürich\, test\, test\, Schweiz
GEO:46.2968768;6.122045200000002
X-APPLE-STRUCTURED-LOCATION;VALUE=URI;X-ADDRESS=test\, test\, Schweiz;X-APP
 LE-RADIUS=100;X-TITLE=Zürich:geo:46.2968768,6.122045200000002
END:VEVENT
END:VCALENDAR