BEGIN:VCALENDAR
VERSION:2.0
PRODID:-//wp-events-plugin.com//7.2.3.1//EN
BEGIN:VEVENT
UID:6@funktionsmodellbau.ch
DTSTART:20110909T080000Z
DTEND:20110911T220000Z
DTSTAMP:20160603T074027Z
URL:https://www.funktionsmodellbau.ch/content/veranstaltungen/strassenfest
 -berikon-2011/
SUMMARY:Strassenfest Berikon 2011 - Primarschule Berikon - 9 Sep. 11 09:00
DESCRIPTION:Im Moment finden noch die Bauarbeiten für die Folgemassnahmen 
 der N20/N4 Mutschellen statt. Dabei wird die Durchgangsstrasse durch Berik
 on neu gestaltet. Bis zum September 2011 sind die Arbeiten abgeschlossen u
 nd es findet ein grosses Strassen(dorf)fest statt.\n\n[caption id="attac
 hment_580" align="alignnone" width="721"] Strassenfest Berikon 2011[/capti
 on]\n\nTermin: 10. - 11.9.2011\n\nWährend dieser Zeit werden die Mutschel
 ler-Gemeinden auf den Beinen sein. Neben den diversen Kneipen\, Bars und a
 nderen Attraktionen\, findet auch ein Schaufahren von Funktonsmodellen sta
 tt.  \n\nAus organisatorischen Gründen gilt Anmeldepflicht. Alle Fahrer
  benutzen bitte diese Anmeldeformular. Genauen Ort mit Parkmöglichkeit u
 nd Ticket bekommt ihr per Mail zugestellt.\n\nWeitere Infos:\n- Online Fl
 yer\n\nOffizielle Webseite: Strassenfest Berikon 2011
CATEGORIES:Events
LOCATION:Primarschule Berikon\, Primarschule Berikon\, Berikon\, AG\, 8965\
 , Schweiz
GEO:47.3495;8.37481
X-APPLE-STRUCTURED-LOCATION;VALUE=URI;X-ADDRESS=Primarschule Berikon\, Beri
 kon\, AG\, 8965\, Schweiz;X-APPLE-RADIUS=100;X-TITLE=Primarschule Berikon:
 geo:47.3495,8.37481
END:VEVENT
END:VCALENDAR