BEGIN:VCALENDAR
VERSION:2.0
PRODID:-//wp-events-plugin.com//7.2.3.1//EN
BEGIN:VEVENT
UID:36@funktionsmodellbau.ch
DTSTART;VALUE=DATE:20140809
DTEND;VALUE=DATE:20140811
DTSTAMP:20140407T065036Z
URL:https://www.funktionsmodellbau.ch/content/veranstaltungen/showfahren-m
 tr-truebbach/
SUMMARY:Showfahren MTR\, Trübbach - Showfahren MTR Trübbach - 9 Aug. 14 0
 0:00
DESCRIPTION:Vom 9. - 10. August findet das Showfahren der MTR statt.\n\nGe
 fahren wird in 1:Tam und 1:Wedico.\n\nVeranstaltungsort:\n\nTurnhalle Seid
 enbaum\n9477 Trübbach\n\nMehr Infos und Kontakt über http://www.minitruc
 ker-rheintal.ch
LOCATION:Showfahren MTR Trübbach\, Turnhalle Seidenbaum\, Trübbach\, 9477
 \, Schweiz
GEO:47.07754080000001;9.490491900000052
X-APPLE-STRUCTURED-LOCATION;VALUE=URI;X-ADDRESS=Turnhalle Seidenbaum\, Trü
 bbach\, 9477\, Schweiz;X-APPLE-RADIUS=100;X-TITLE=Showfahren MTR Trübbach
 :geo:47.07754080000001,9.490491900000052
END:VEVENT
END:VCALENDAR