BEGIN:VCALENDAR
VERSION:2.0
PRODID:-//wp-events-plugin.com//7.2.3.1//EN
BEGIN:VEVENT
UID:48@funktionsmodellbau.ch
DTSTART;VALUE=DATE:20160430
DTEND;VALUE=DATE:20160502
DTSTAMP:20160402T080329Z
URL:https://www.funktionsmodellbau.ch/content/veranstaltungen/rc-event-ask
 -schiffsmodell-schaufahren-2016-wohlen/
SUMMARY:RC Event: ASK Schiffsmodell-Schaufahren 2016\, Wohlen - Schwimmbad 
 Bünzmatt - 30 Apr. 16 00:00
DESCRIPTION:\n\nEntfliehen Sie dem Alltag und besuchen Sie uns an unserem S
 chiffsmodell-Schaufahren am Samstag\, 30. April und Sonntag\, 1. Mai 2016 
 wenn es wieder heisst “Schiff Ahoi” in der Badi Wohlen! Es erwarten Si
 e zwei abwechslungsreiche Tage zum Staunen und Träumen für Jung und Alt!
 \n\nSamstag\, 30. April 2016 - 11.00 bis 21.30\nSonntag\, 1. Mai 2016 - 10
 .00 bis 16.00\n\n&nbsp\;\n\nDownload Flyer\n\n&nbsp\;
CATEGORIES:Events
LOCATION:Schwimmbad Bünzmatt\, Schwimmbad Bünzmatt\, Wohlen\, Aargau\, 56
 10\, Schweiz
GEO:47.3508817;8.287050700000009
X-APPLE-STRUCTURED-LOCATION;VALUE=URI;X-ADDRESS=Schwimmbad Bünzmatt\, Wohl
 en\, Aargau\, 5610\, Schweiz;X-APPLE-RADIUS=100;X-TITLE=Schwimmbad Bünzma
 tt:geo:47.3508817,8.287050700000009
END:VEVENT
END:VCALENDAR