BEGIN:VCALENDAR
VERSION:2.0
PRODID:-//wp-events-plugin.com//7.2.3.1//EN
BEGIN:VEVENT
UID:16@funktionsmodellbau.ch
DTSTART:20120303T090000Z
DTEND:20120303T150000Z
DTSTAMP:20120301T172210Z
URL:https://www.funktionsmodellbau.ch/content/veranstaltungen/open-day-bei
 -wemu-sh/
SUMMARY:OPEN DAY bei wemu.sh - wemu.ch - 3 März 12 10:00
DESCRIPTION:Schon länger betreibt wemu.ch den eigenen Onlineshop. Am 3. M
 ärz 2012 folgt der nächste Schritt: Der Modellbaushop in Zürich-Altstet
 ten wird eröffnet.\n\nDazu sind alle zum Open-Day eingeladen. Flyer ausdr
 ucken und mitbringen!\n\nAdresse:\nBernerstrasse Nord 180\n8064 Zürich-Al
 tstetten\n\nDer Eingang befindet sich auf der der Stadt Zürich abgewandt
 en Seite des Gebäudes (grüne Türen).\n\nMehr Informationen unter wemu.
 ch
CATEGORIES:Events
LOCATION:wemu.ch\, Bernerstrasse Nord 180\, Zürich-Altstetten\, 8064\, ZH\
 , Schweiz
GEO:47.3954099;8.487202400000001
X-APPLE-STRUCTURED-LOCATION;VALUE=URI;X-ADDRESS=Bernerstrasse Nord 180\, Z
 ürich-Altstetten\, 8064\, ZH\, Schweiz;X-APPLE-RADIUS=100;X-TITLE=wemu.ch
 :geo:47.3954099,8.487202400000001
END:VEVENT
END:VCALENDAR