BEGIN:VCALENDAR
VERSION:2.0
PRODID:-//wp-events-plugin.com//7.2.3.1//EN
BEGIN:VEVENT
UID:9@funktionsmodellbau.ch
DTSTART:20111015T090000Z
DTEND:20111015T170000Z
DTSTAMP:20120103T144855Z
URL:https://www.funktionsmodellbau.ch/content/veranstaltungen/nationales-m
 ini-truck-treffen-gelterkinden-2011/
SUMMARY:Nationales Mini-Truck Treffen Gelterkinden 2011 - Mehrzweckhalle Ge
 lterkinden - 15 Okt. 11 10:00
DESCRIPTION:Mini Truck Driver beider Basel veranstalten das nationale Mini-
 Truck Treffen in Gelterkinden.
CATEGORIES:Schaufahren mit Parcours
LOCATION:Mehrzweckhalle Gelterkinden\, Mehrzweckhalle\, Gerlterkinden\, Sch
 weiz
GEO:47.6095;8.23842
X-APPLE-STRUCTURED-LOCATION;VALUE=URI;X-ADDRESS=Mehrzweckhalle\, Gerlterkin
 den\, Schweiz;X-APPLE-RADIUS=100;X-TITLE=Mehrzweckhalle Gelterkinden:geo:4
 7.6095,8.23842
END:VEVENT
END:VCALENDAR