BEGIN:VCALENDAR
VERSION:2.0
PRODID:-//wp-events-plugin.com//7.2.3.1//EN
BEGIN:VEVENT
UID:53@funktionsmodellbau.ch
DTSTART:20171020T230000Z
DTEND:20171021T160000Z
DTSTAMP:20170716T085057Z
URL:https://www.funktionsmodellbau.ch/content/veranstaltungen/modellbauboe
 rse-willisau-2017/
SUMMARY:Modellbaubörse Willisau 2017 - Festhalle Willisau - 21 Okt. 17 00:
 00
DESCRIPTION:Die Modellfluggruppe Willisau fürt am 21.10.2017 eine grosse M
 odellbaubörse durch.\n\nDie genauen Infos sind aus dem Flyer oder auf d
 er Modellflug-Willisau Website zu entnehmen.\n\n&nbsp\;
ATTACH;FMTTYPE=image/jpeg:https://i0.wp.com/www.funktionsmodellbau.ch/cont
 ent/wp-content/uploads/2017/07/flyerteaser1.png?fit=566%2C395&ssl=1
CATEGORIES:Events,Modellbaubörse
LOCATION:Festhalle Willisau\, Viehmarkt\, Willisau\, Schweiz
GEO:47.1202686;7.986546399999952
X-APPLE-STRUCTURED-LOCATION;VALUE=URI;X-ADDRESS=Viehmarkt\, Willisau\, Schw
 eiz;X-APPLE-RADIUS=100;X-TITLE=Festhalle Willisau:geo:47.1202686,7.9865463
 99999952
END:VEVENT
END:VCALENDAR