BEGIN:VCALENDAR
VERSION:2.0
PRODID:-//wp-events-plugin.com//7.2.3.1//EN
BEGIN:VEVENT
UID:30@funktionsmodellbau.ch
DTSTART;VALUE=DATE:20130524
DTEND;VALUE=DATE:20130527
DTSTAMP:20130125T152655Z
URL:https://www.funktionsmodellbau.ch/content/veranstaltungen/mini-trucker
 -festival-lyss/
SUMMARY:Mini Trucker Festival Lyss - Lyss - 24 Mai 13 00:00
DESCRIPTION:Mini Trucker Festival Lyss\n\nKontakt und mehr Infos auf:\n\nww
 w.mt-lyss.ch.vu
LOCATION:Lyss\, Nähe Kartbahn\, Lyss\, Schweiz\, Schweiz
GEO:47.0762911;7.307346100000018
X-APPLE-STRUCTURED-LOCATION;VALUE=URI;X-ADDRESS=Nähe Kartbahn\, Lyss\, Sch
 weiz\, Schweiz;X-APPLE-RADIUS=100;X-TITLE=Lyss:geo:47.0762911,7.3073461000
 00018
END:VEVENT
END:VCALENDAR