BEGIN:VCALENDAR
VERSION:2.0
PRODID:-//wp-events-plugin.com//7.2.3.1//EN
BEGIN:VEVENT
UID:43@funktionsmodellbau.ch
DTSTART;VALUE=DATE:20150911
DTEND;VALUE=DATE:20150914
DTSTAMP:20150113T064739Z
URL:https://www.funktionsmodellbau.ch/content/veranstaltungen/mini-trucker
 -festival-lyss-8/
SUMMARY:Mini Trucker Festival Lyss - Lyss - 11 Sep. 15 00:00
DESCRIPTION:1. - 13. September 2015\n\nVom 11. bis 13. September 2015 finde
 t das letzte Mini Trucker Festival für dieses Jahr statt. Auf einem der s
 chönsten Outdoor Parcours der Schweiz kann gefahren und gebaggert werden\
 , was das Zeug hält.\n\nDer Anlass befindet sich in der Nähe der Kartbah
 n und ist gut ausgeschildert.\n\nMehr Infos: www.mintruckerlyss.ch
CATEGORIES:Events,Schaufahren mit Parcours
LOCATION:Lyss\, Lyss\, Lyss\, Schweiz
GEO:47.076316;7.30628999999999
X-APPLE-STRUCTURED-LOCATION;VALUE=URI;X-ADDRESS=Lyss\, Lyss\, Schweiz;X-APP
 LE-RADIUS=100;X-TITLE=Lyss:geo:47.076316,7.30628999999999
END:VEVENT
END:VCALENDAR