BEGIN:VCALENDAR
VERSION:2.0
PRODID:-//wp-events-plugin.com//7.2.3.1//EN
BEGIN:VEVENT
UID:42@funktionsmodellbau.ch
DTSTART;VALUE=DATE:20150619
DTEND;VALUE=DATE:20150622
DTSTAMP:20150113T065029Z
URL:https://www.funktionsmodellbau.ch/content/veranstaltungen/mini-trucker
 -festival-lyss-7/
SUMMARY:Mini Trucker Festival Lyss - Lyss - 19 Juni 15 00:00
DESCRIPTION:\n\n\n19. - 21. Juni 2015\nMini Trucker Festival Lyss\n\n\n\nVo
 m 19. bis 21. Juni 2015 findet das alljährliche Mini Trucker Festival in 
 Lyss (BE) statt. In Lyss befindet sich einer der schönsten Outdoor Parcou
 rs der Schweiz.\n\nDer Anlass befindet sich in der Nähe der Kartbahn und 
 ist gut ausgeschildert.\n\nMehr Infos: www.mintruckerlyss.ch\n\n&nbsp\;
LOCATION:Lyss\, lyss\, Lyss\, 3250\, Schweiz
GEO:47.076316;7.30628999999999
X-APPLE-STRUCTURED-LOCATION;VALUE=URI;X-ADDRESS=lyss\, Lyss\, 3250\, Schwei
 z;X-APPLE-RADIUS=100;X-TITLE=Lyss:geo:47.076316,7.30628999999999
END:VEVENT
END:VCALENDAR