BEGIN:VCALENDAR
VERSION:2.0
PRODID:-//wp-events-plugin.com//7.2.3.1//EN
BEGIN:VEVENT
UID:37@funktionsmodellbau.ch
DTSTART;VALUE=DATE:20140912
DTEND;VALUE=DATE:20140915
DTSTAMP:20140905T185407Z
URL:https://www.funktionsmodellbau.ch/content/veranstaltungen/mini-trucker
 -festival-lyss-6/
SUMMARY:Mini Trucker Festival Lyss - Mini Trucker Festival Lyss - 12 Sep. 1
 4 00:00
DESCRIPTION:Vom 12. bis 14. September findet das 3. lange Wochenende der 
 Minitrucker Lyss statt.\n\nGefahren wird in 1:Tam und 1:Wedico.\nDie Pi
 ste befindet sich in 3250 Lyss in der Nähe der Autobahn\, 100m vor der 
 Kartbahn. Es stehen ab der Autobahnausfahrt Lyss Süd Wegweiser mit der 
 Aufschrift Minitucker Lyss bereit.\n\nMehr Infos und Kontakt über www.
 mt-lyss.ch.vu
CATEGORIES:Events,Schaufahren mit Parcours
LOCATION:Mini Trucker Festival Lyss\, Lyss\, Lyss\, Schweiz
GEO:47.076316;7.30628999999999
X-APPLE-STRUCTURED-LOCATION;VALUE=URI;X-ADDRESS=Lyss\, Lyss\, Schweiz;X-APP
 LE-RADIUS=100;X-TITLE=Mini Trucker Festival Lyss:geo:47.076316,7.306289999
 99999
END:VEVENT
END:VCALENDAR