BEGIN:VCALENDAR
VERSION:2.0
PRODID:-//wp-events-plugin.com//7.2.3.1//EN
BEGIN:VEVENT
UID:35@funktionsmodellbau.ch
DTSTART;VALUE=DATE:20140808
DTEND;VALUE=DATE:20140811
DTSTAMP:20140407T065828Z
URL:https://www.funktionsmodellbau.ch/content/veranstaltungen/mini-trucker
 -festival-lyss-5/
SUMMARY:Mini Trucker Festival Lyss - Mini Trucker Festival Lyss - 8 Aug. 14
  00:00
DESCRIPTION:Vom 8. bis 10. August findet das 2. lange Wochenende der Mini
 trucker Lyss statt.\n\nGefahren wird in 1:Tam und 1:Wedico.\nDie Piste 
 befindet sich in 3250 Lyss in der Nähe der Autobahn\, 100m vor der Kart
 bahn. Es stehen ab der Autobahnausfahrt Lyss Süd Wegweiser mit der Aufs
 chrift Minitucker Lyss bereit.\n\nMehr Infos und Kontakt über www.mt-l
 yss.ch.vu
CATEGORIES:Events,Schaufahren mit Parcours
LOCATION:Mini Trucker Festival Lyss\, Lyss\, Lyss\, Schweiz\, 3250\, Schwei
 z
GEO:47.076316;7.30628999999999
X-APPLE-STRUCTURED-LOCATION;VALUE=URI;X-ADDRESS=Lyss\, Lyss\, Schweiz\, 325
 0\, Schweiz;X-APPLE-RADIUS=100;X-TITLE=Mini Trucker Festival Lyss:geo:47.0
 76316,7.30628999999999
END:VEVENT
END:VCALENDAR