BEGIN:VCALENDAR
VERSION:2.0
PRODID:-//wp-events-plugin.com//7.2.3.1//EN
BEGIN:VEVENT
UID:47@funktionsmodellbau.ch
DTSTART;VALUE=DATE:20160716
DTEND;VALUE=DATE:20160718
DTSTAMP:20160216T124316Z
URL:https://www.funktionsmodellbau.ch/content/veranstaltungen/mini-trucker
 -festival-lyss-2016/
SUMMARY:Mini Trucker Festival Lyss 2016 - Mini Trucker Festival Lyss - 16 J
 uli 16 10:00
DESCRIPTION:Das Mini Trucker Festival der Mini Trucker Lyss findet am 16. 
 bis 17. Juli 2016 statt.\n\nGastfahrer müssen sich anmelden!
CATEGORIES:Schaufahren mit Parcours
LOCATION:Mini Trucker Festival Lyss\, Lyss\, Lyss\, Schweiz\, 3250\, Schwei
 z
GEO:47.076316;7.30628999999999
X-APPLE-STRUCTURED-LOCATION;VALUE=URI;X-ADDRESS=Lyss\, Lyss\, Schweiz\, 325
 0\, Schweiz;X-APPLE-RADIUS=100;X-TITLE=Mini Trucker Festival Lyss:geo:47.0
 76316,7.30628999999999
END:VEVENT
END:VCALENDAR