BEGIN:VCALENDAR
VERSION:2.0
PRODID:-//wp-events-plugin.com//7.2.3.1//EN
BEGIN:VEVENT
UID:32@funktionsmodellbau.ch
DTSTART;VALUE=DATE:20130809
DTEND;VALUE=DATE:20130812
DTSTAMP:20130125T154005Z
URL:https://www.funktionsmodellbau.ch/content/veranstaltungen/mini-trucker
 -festival-lyss-2/
SUMMARY:Mini Trucker Festival Lyss - Lyss - 9 Aug. 13 00:00
DESCRIPTION:Mini Trucker Festival Lyss\,\nmit 24 Stunden Fahren\n\nKontakt 
 und Infos auf:\n\nwww.mt-lyss.ch.vu
CATEGORIES:Events
LOCATION:Lyss\, Nähe Kartbahn\, Lyss\, Schweiz\, Schweiz
GEO:47.0762911;7.307346100000018
X-APPLE-STRUCTURED-LOCATION;VALUE=URI;X-ADDRESS=Nähe Kartbahn\, Lyss\, Sch
 weiz\, Schweiz;X-APPLE-RADIUS=100;X-TITLE=Lyss:geo:47.0762911,7.3073461000
 00018
END:VEVENT
END:VCALENDAR