BEGIN:VCALENDAR
VERSION:2.0
PRODID:-//wp-events-plugin.com//7.2.3.1//EN
BEGIN:VEVENT
UID:14@funktionsmodellbau.ch
DTSTART:20110604T080000Z
DTEND:20110605T150000Z
DTSTAMP:20120103T144856Z
URL:https://www.funktionsmodellbau.ch/content/veranstaltungen/mini-truck-t
 reffen-in-jona/
SUMMARY:Mini Truck Treffen in Jona - Steiner Transport - 4 Juni 11 09:00
DESCRIPTION:Wir vom Mini Trucker March\, machen unser 2. Schaufahren in Jo
 na .\nwir laden alle ein die Lust haben zu kommen.\n\nWo: Steiner Transpor
 t\, Buechstr 1\, Jona (CH)\nWann: 21./22. Mai\nVon: Sa 14.00 – 22.00 Uhr
 \, So 09.00 – 16.00 Uhr\nFür weitere Infos: md-trans@sunrise.ch.\n\nAu
 ch Schlafmöglichkeiten gibts (Massenlager) \, für Wohnwagen haben wir au
 ch Platz .
CATEGORIES:Events
LOCATION:Steiner Transport\, Buechstrasse 1\, Jona\, Schweiz
GEO:47.2247;8.8636
X-APPLE-STRUCTURED-LOCATION;VALUE=URI;X-ADDRESS=Buechstrasse 1\, Jona\, Sch
 weiz;X-APPLE-RADIUS=100;X-TITLE=Steiner Transport:geo:47.2247,8.8636
END:VEVENT
END:VCALENDAR