BEGIN:VCALENDAR
VERSION:2.0
PRODID:-//wp-events-plugin.com//7.2.3.1//EN
BEGIN:VEVENT
UID:13@funktionsmodellbau.ch
DTSTART:20110617T080000Z
DTEND:20110619T160000Z
DTSTAMP:20120103T144856Z
URL:https://www.funktionsmodellbau.ch/content/veranstaltungen/lkw-modellba
 u-ch-modellbauaustellung-laufenburg-2011/
SUMMARY:LKW-Modellbau.ch\, Modellbauaustellung Laufenburg 2011 - Stadthalle
  Laufenburg - 17 Juni 11 09:00
DESCRIPTION:LKW-Modellbau.ch führen am 17. – 19. Juni 2011 in Laufenburg
  ihre Modellbau-Ausstellung durch.\n\nMit dabei sind Trucks und Baumschine
 n in den Massstäben 1:8 / 1:14 / 1:16 mit Beleuchtung\, Sound und Getrieb
 e auf einem Parcours mit Spaghettiplausch.
CATEGORIES:Events
LOCATION:Stadthalle Laufenburg\, Stadthalle\, Laufenburg\, AG\, Schweiz
GEO:47.5597;8.06135
X-APPLE-STRUCTURED-LOCATION;VALUE=URI;X-ADDRESS=Stadthalle\, Laufenburg\, A
 G\, Schweiz;X-APPLE-RADIUS=100;X-TITLE=Stadthalle Laufenburg:geo:47.5597,8
 .06135
END:VEVENT
END:VCALENDAR