BEGIN:VCALENDAR
VERSION:2.0
PRODID:-//wp-events-plugin.com//7.2.3.1//EN
BEGIN:VEVENT
UID:26@funktionsmodellbau.ch
DTSTART;VALUE=DATE:20120914
DTEND;VALUE=DATE:20120917
DTSTAMP:20120913T150636Z
URL:https://www.funktionsmodellbau.ch/content/veranstaltungen/langes-woche
 nende-lyss/
SUMMARY:Langes Wochenende Lyss - Lyss - 14 Sep. 12 00:00
DESCRIPTION:Vom 14. bis zum 16.September 2012 findet das dritte und für di
 eses Jahr letzte lange Wochenende der Minitrucker Lyss statt.\nGefahren 
 wird in 1:Tam und 1:Wedico.\nDie Piste befindet sich in 3250 Lyss in der
  Nähe der Autobahn\, 100m vor der Kartbahn. Es stehen ab der Autobahnausf
 ahrt Lyss Süd Wegweiser mit der Aufschrift Minitucker Lyss bereit.\n\
 nAm Freitag wird frühmorgens mit dem Aufstellen begonnen\, am späteren N
 achmittag wird die Piste geöffnet und Gäste sind herzlich willkommen.\nS
 amstags ist die Piste ab 09.°° geöffnet\, gefahren wird solang's Leute 
 hat....\nAm Sonntag ist die Piste von 09.°° bis um 16.°° geöffnet und
  die Veranstaltung dann gemütlich zu Ende geht.\nFür das Leibliche Wohl 
 ist auch gesorgt.(diverse Getränke\, Grillwaren und Kuchen)\n\nDieses Jah
 r haben wir die Buddelecke erheblich vergrössert um der zunehmenden Baust
 ellenfraktion Platz zu bieten.\n\nNoch eine Info für alle welche einen et
 was weiteren Weg haben:\n\n-Zum einen kann auf der Wiese gecampt werden. Z
 elte und WoMos sind willkommen.\n\n-Zum anderen besteht die Möglichkeit i
 n der Nähe günstig zu übernachten.\n\nGasthof Traube\nDorfstraße 22\n3
 257 Grossaffoltern\nTel. 032 389 22 44\ninfo@gasthof-traube.ch
CATEGORIES:Events,Schaufahren mit Parcours
LOCATION:Lyss\, Nähe Kartbahn\, Lyss\, Schweiz\, Schweiz
GEO:47.0762911;7.307346100000018
X-APPLE-STRUCTURED-LOCATION;VALUE=URI;X-ADDRESS=Nähe Kartbahn\, Lyss\, Sch
 weiz\, Schweiz;X-APPLE-RADIUS=100;X-TITLE=Lyss:geo:47.0762911,7.3073461000
 00018
END:VEVENT
END:VCALENDAR