BEGIN:VCALENDAR
VERSION:2.0
PRODID:-//wp-events-plugin.com//7.2.3.1//EN
BEGIN:VEVENT
UID:12@funktionsmodellbau.ch
DTSTART:20110811T230000Z
DTEND:20110813T230000Z
DTSTAMP:20120103T144856Z
URL:https://www.funktionsmodellbau.ch/content/veranstaltungen/langes-woche
 nende-lyss-2011-inkl-24h-fahren/
SUMMARY:Langes Wochenende Lyss 2011 inkl. 24h Fahren - Modelltruckpiste (N
 ähe Cartbahn) - 12 Aug. 11 00:00
DESCRIPTION:Lyss BE\, Modelltruckpiste\,  Nähe Cartbahn
CATEGORIES:Events
LOCATION:Modelltruckpiste (Nähe Cartbahn)\, Nähe Cartbahn\, Lyss\, BE\, S
 chweiz
GEO:47.0763;7.30735
X-APPLE-STRUCTURED-LOCATION;VALUE=URI;X-ADDRESS=Nähe Cartbahn\, Lyss\, BE\
 , Schweiz;X-APPLE-RADIUS=100;X-TITLE=Modelltruckpiste (Nähe Cartbahn):geo
 :47.0763,7.30735
END:VEVENT
END:VCALENDAR