BEGIN:VCALENDAR
VERSION:2.0
PRODID:-//wp-events-plugin.com//7.2.3.1//EN
BEGIN:VEVENT
UID:31@funktionsmodellbau.ch
DTSTART;VALUE=DATE:20130621
DTEND;VALUE=DATE:20130624
DTSTAMP:20130125T154256Z
URL:https://www.funktionsmodellbau.ch/content/veranstaltungen/jubilaumsfah
 ren-15-jahre-mini-trucker-lyss/
SUMMARY:Jubiläumsfahren\, 15 Jahre Mini Trucker Lyss - Lyss - 21 Juni 13 0
 0:00
DESCRIPTION:Jubiläumsfahren\,\n15 Jahre Mini Trucker Lyss\n\nKontakt und I
 nfos auf:\n\nhttp://www.mt-lyss.ch.vu/
CATEGORIES:Events
LOCATION:Lyss\, Nähe Kartbahn\, Lyss\, Schweiz\, Schweiz
GEO:47.0762911;7.307346100000018
X-APPLE-STRUCTURED-LOCATION;VALUE=URI;X-ADDRESS=Nähe Kartbahn\, Lyss\, Sch
 weiz\, Schweiz;X-APPLE-RADIUS=100;X-TITLE=Lyss:geo:47.0762911,7.3073461000
 00018
END:VEVENT
END:VCALENDAR