BEGIN:VCALENDAR
VERSION:2.0
PRODID:-//wp-events-plugin.com//7.2.3.1//EN
BEGIN:VEVENT
UID:49@funktionsmodellbau.ch
DTSTART;VALUE=DATE:20170311
DTEND;VALUE=DATE:20170313
DTSTAMP:20170302T180738Z
URL:https://www.funktionsmodellbau.ch/content/veranstaltungen/funktionsmod
 ellbau-schaufahren-grossaffolten-ch/
SUMMARY:Funktionsmodellbau Schaufahren\, Grossaffolten (CH) - Turnhalle Gro
 ssaffoltern - 11 März 17 10:00
DESCRIPTION:Das Funktionsmodellbau-Team aus Grossaffolten (BE/CH) führen e
 in Schaufahren für Funktionsmodelle im Massstab 1:12 bis 1:16 durch.\n\nV
 orhanden sind diverse Modelle über Baumaschinen\, Landwirtschaft\, Logist
 ik etc.\nMit Festwirtschaft und Mittag- und Abendmenüs.\n\nSamstag 11.3.2
 017 - 10.00 h bis 22.00 h\nSonntag 11.3.2017 - 10.00 h bis 16.00 h\n\nAnme
 ldung nötig\, siehe Flyer:\n\n
CATEGORIES:Events,Schaufahren mit Parcours
LOCATION:Turnhalle Grossaffoltern\, Schulhausstrasse 5\, Grossaffoltern\, 3
 257\, Schweiz
GEO:47.0636814;7.358357999999953
X-APPLE-STRUCTURED-LOCATION;VALUE=URI;X-ADDRESS=Schulhausstrasse 5\, Grossa
 ffoltern\, 3257\, Schweiz;X-APPLE-RADIUS=100;X-TITLE=Turnhalle Grossaffolt
 ern:geo:47.0636814,7.358357999999953
END:VEVENT
END:VCALENDAR