BEGIN:VCALENDAR
VERSION:2.0
PRODID:-//wp-events-plugin.com//7.2.3.1//EN
BEGIN:VEVENT
UID:46@funktionsmodellbau.ch
DTSTART;VALUE=DATE:20160430
DTEND;VALUE=DATE:20160502
DTSTAMP:20160119T071533Z
URL:https://www.funktionsmodellbau.ch/content/veranstaltungen/event-schauf
 ahren-jona-2016/
SUMMARY:Event: Schaufahren Jona 2016 - Jona - 30 Apr. 16 00:00
DESCRIPTION:Die Mini Trucker March führen am 30. April und 1. Mai ihr Scha
 ufahren in Jona durch. Das Fahren findet auf dem Areal (Halle) der Steiner
  Transporte statt.\n\nZeiten\n\nSamstag: 13.00 - 22.00 h\nSonntag: 9.00 - 
 16.00 h\n\n
LOCATION:Jona\, Steiner Transporte\, Jona\, 8645\, Schweiz
GEO:47.2301899;8.845539799999983
X-APPLE-STRUCTURED-LOCATION;VALUE=URI;X-ADDRESS=Steiner Transporte\, Jona\,
  8645\, Schweiz;X-APPLE-RADIUS=100;X-TITLE=Jona:geo:47.2301899,8.845539799
 999983
END:VEVENT
END:VCALENDAR