BEGIN:VCALENDAR
VERSION:2.0
PRODID:-//wp-events-plugin.com//7.2.3.1//EN
BEGIN:VEVENT
UID:51@funktionsmodellbau.ch
DTSTART:20170429T100000Z
DTEND:20170429T203000Z
DTSTAMP:20170302T190713Z
URL:https://www.funktionsmodellbau.ch/content/veranstaltungen/ask-modellsc
 haufahren-2017-wohlen/
SUMMARY:ASK Modellschaufahren 2017\, Wohlen - ASK Schaufahren - 29 Apr. 17 
 11:00
DESCRIPTION:Der Aargauische Schiffsmodellbau-Klub (ASK) lädt zum Schaufahr
 en 2017 in Wohlen ein.\n\n\n\nMehr Informationen auf der Website des ASK.
CATEGORIES:Events,Schaufahren mit Parcours
LOCATION:ASK Schaufahren\, Allmendstrasse \, Wohlen\, 5610\, Schweiz
GEO:47.3543126;8.269758700000011
X-APPLE-STRUCTURED-LOCATION;VALUE=URI;X-ADDRESS=Allmendstrasse \, Wohlen\, 
 5610\, Schweiz;X-APPLE-RADIUS=100;X-TITLE=ASK Schaufahren:geo:47.3543126,8
 .269758700000011
END:VEVENT
END:VCALENDAR