BEGIN:VCALENDAR
VERSION:2.0
PRODID:-//wp-events-plugin.com//7.2.3.1//EN
BEGIN:VEVENT
UID:29@funktionsmodellbau.ch
DTSTART:20130105T090000Z
DTEND:20130105T170000Z
DTSTAMP:20121203T082737Z
URL:https://www.funktionsmodellbau.ch/content/veranstaltungen/9-neujahr-mi
 ni-trucker-treffen-herisau/
SUMMARY:9. Neujahr-Mini-Trucker Treffen Herisau - 9. Neujahr-Mini-Trucker-T
 reffen Herisau - 5 Jan. 13 10:00
DESCRIPTION:Am 5. Dezember findet das 9. Neujahr-Mini-Trucker -Treffen in H
 erisau statt.\n\nWo: Sporthalle Ebnet\, CH-9100 Herisau\nWann: 5. Januar 2
 012\, von 10.00 bis ca. 18.00 h\n\nAnmeldung obligatorisch! Adrian Steinig
 er +41 79 325 03 77\n\n&nbsp\;\n\n
ATTACH;FMTTYPE=image/jpeg:https://i0.wp.com/www.funktionsmodellbau.ch/cont
 ent/wp-content/uploads/2012/12/399196_4363260113517_929442954_n.jpg?fit=63
 2%2C960&ssl=1
CATEGORIES:Events,Schaufahren mit Parcours
LOCATION:9. Neujahr-Mini-Trucker-Treffen Herisau\, Sporthalle Ebnet\, Heris
 au\, Schweiz\, 9100\, Schweiz
GEO:47.38700660000001;9.282480899999996
X-APPLE-STRUCTURED-LOCATION;VALUE=URI;X-ADDRESS=Sporthalle Ebnet\, Herisau\
 , Schweiz\, 9100\, Schweiz;X-APPLE-RADIUS=100;X-TITLE=9. Neujahr-Mini-Truc
 ker-Treffen Herisau:geo:47.38700660000001,9.282480899999996
END:VEVENT
END:VCALENDAR