BEGIN:VCALENDAR
VERSION:2.0
PRODID:-//wp-events-plugin.com//7.2.3.1//EN
BEGIN:VEVENT
UID:8@funktionsmodellbau.ch
DTSTART:20120106T230000Z
DTEND:20120106T230000Z
DTSTAMP:20120103T144856Z
URL:https://www.funktionsmodellbau.ch/content/veranstaltungen/8-neujahrsfa
 hren-mrt/
SUMMARY:8. Neujahrsfahren MRT - Turnhalle Ebnet - 7 Jan. 12 00:00
DESCRIPTION:Im Moment noch keine Beschreibung. Noch nicht sicher\, ob es ei
 ne öffentliche Veranstaltung ist.
CATEGORIES:Schaufahren mit Parcours
LOCATION:Turnhalle Ebnet\, Kasernenstrasse 71\, Herisau\, 9100\, Ostschweiz
 \, Schweiz
X-APPLE-STRUCTURED-LOCATION;VALUE=URI;X-ADDRESS=Kasernenstrasse 71\, Herisa
 u\, 9100\, Ostschweiz\, Schweiz;X-APPLE-RADIUS=100;X-TITLE=Turnhalle Ebnet
 :geo:0,0
END:VEVENT
END:VCALENDAR