BEGIN:VCALENDAR
VERSION:2.0
PRODID:-//wp-events-plugin.com//7.2.3.1//EN
BEGIN:VEVENT
UID:40@funktionsmodellbau.ch
DTSTART;VALUE=DATE:20150502
DTEND;VALUE=DATE:20150504
DTSTAMP:20150113T063200Z
URL:https://www.funktionsmodellbau.ch/content/veranstaltungen/7-schaufahre
 n-jona-2015/
SUMMARY:7. Schaufahren Jona 2015 - Jona - 2 Mai 15 00:00
DESCRIPTION:Vom 2. bis 3. Mail 2015 findet das 7. Schaufahren in Jona statt
 . Auf dem Areal der Steiner Transporte in Jona wird gefahren und gebaggert
 \, was das Zeug hält.\n\nMehr Infos dazu auf http://www.minitruckermarch
 .ch
CATEGORIES:Events,Schaufahren mit Parcours
LOCATION:Jona\, Steiner Transporte\, Jona\, 8645\, Schweiz
GEO:47.2301899;8.845539799999983
X-APPLE-STRUCTURED-LOCATION;VALUE=URI;X-ADDRESS=Steiner Transporte\, Jona\,
  8645\, Schweiz;X-APPLE-RADIUS=100;X-TITLE=Jona:geo:47.2301899,8.845539799
 999983
END:VEVENT
END:VCALENDAR