BEGIN:VCALENDAR
VERSION:2.0
PRODID:-//wp-events-plugin.com//7.2.3.1//EN
BEGIN:VEVENT
UID:41@funktionsmodellbau.ch
DTSTART;VALUE=DATE:20150522
DTEND;VALUE=DATE:20150526
DTSTAMP:20150113T064951Z
URL:https://www.funktionsmodellbau.ch/content/veranstaltungen/6587/
SUMMARY:MEGA Mini Trucker Festival Lyss - Lyss - 22 Mai 15 00:00
DESCRIPTION:Vom 22. bis 25. Mail findet das MEGA Mini Trucker Festival in L
 yss statt. Dort befindet sich einer der schönsten Outdoor Parcours der Sc
 hweiz.\n\nDer Anlass befindet sich in der Nähe der Kartbahn und ist gut a
 usgeschildert.\n\nMehr Infos: www.mintruckerlyss.ch\n\n&nbsp\;
LOCATION:Lyss\, lyss\, lyss\, Schweiz
GEO:47.0763156;7.306298200000015
X-APPLE-STRUCTURED-LOCATION;VALUE=URI;X-ADDRESS=lyss\, lyss\, Schweiz;X-APP
 LE-RADIUS=100;X-TITLE=Lyss:geo:47.0763156,7.306298200000015
END:VEVENT
END:VCALENDAR