BEGIN:VCALENDAR
VERSION:2.0
PRODID:-//wp-events-plugin.com//7.2.3.1//EN
BEGIN:VEVENT
UID:28@funktionsmodellbau.ch
DTSTART;VALUE=DATE:20130504
DTEND;VALUE=DATE:20130506
DTSTAMP:20121121T061659Z
URL:https://www.funktionsmodellbau.ch/content/veranstaltungen/4-mini-truck
 er-treffen-mtm/
SUMMARY:4. Mini Trucker Treffen MTM - Steiner Transport - 4 Mai 13 00:00
DESCRIPTION:Vom 4. - 5. Mai 2013 findet das 4. Mini Trucker Treffen und das
  5 jährige Jubiläum des MTM statt. Mehr Informationen dazu auf www.minit
 ruckermarch.ch
CATEGORIES:Events
LOCATION:Steiner Transport\, Buechstrasse 1\, Jona\, Schweiz\, 8645\, Schwe
 iz
GEO:47.2247724;8.863057600000047
X-APPLE-STRUCTURED-LOCATION;VALUE=URI;X-ADDRESS=Buechstrasse 1\, Jona\, Sch
 weiz\, 8645\, Schweiz;X-APPLE-RADIUS=100;X-TITLE=Steiner Transport:geo:47.
 2247724,8.863057600000047
END:VEVENT
END:VCALENDAR