BEGIN:VCALENDAR
VERSION:2.0
PRODID:-//wp-events-plugin.com//7.2.3.1//EN
BEGIN:VEVENT
UID:44@funktionsmodellbau.ch
DTSTART;VALUE=DATE:20151010
DTEND;VALUE=DATE:20151012
DTSTAMP:20150916T112142Z
URL:https://www.funktionsmodellbau.ch/content/veranstaltungen/20-jahre-jub
 ilaeum-mini-truck-drivers-beider-basel/
SUMMARY:20 Jahre Jubiläum Mini Truck Drivers beider Basel - Lausen - 10 Ok
 t. 15 00:00
DESCRIPTION:Die Mini Truck Drivers beider Basel feiern ihr 20 Jahres Jubil
 äum mit einem RC Truck Event.\n\nWann: 10. - 11. Oktober 2015\n\nWo: MZ
 H Stutz\, 4415 Lausen\n\nAnmeldung erforderlich: www.mtdbb.ch
LOCATION:Lausen\, MZH Stutz\, Lausen\, Schweiz
GEO:47.4729163;7.759395499999982
X-APPLE-STRUCTURED-LOCATION;VALUE=URI;X-ADDRESS=MZH Stutz\, Lausen\, Schwei
 z;X-APPLE-RADIUS=100;X-TITLE=Lausen:geo:47.4729163,7.759395499999982
END:VEVENT
END:VCALENDAR