BEGIN:VCALENDAR
VERSION:2.0
PRODID:-//wp-events-plugin.com//7.2.3.1//EN
BEGIN:VEVENT
UID:27@funktionsmodellbau.ch
DTSTART;VALUE=DATE:20130525
DTEND;VALUE=DATE:20130527
DTSTAMP:20120913T151544Z
URL:https://www.funktionsmodellbau.ch/content/veranstaltungen/20-jahr-jubi
 laums-fahren-mttzo/
SUMMARY:20 Jahr Jubiläums-Fahren MTTZO - 20 Jahr Jubiläums-Fahren MTTZO  
 - 25 Mai 13 00:00
DESCRIPTION:20 Jahr Jubiläums-Fahren MTTZO\n\nwww.mttzo.ch Anmeldung erfo
 rderlich!\n\n&nbsp\;
CATEGORIES:Events,Schaufahren mit Parcours
LOCATION:20 Jahr Jubiläums-Fahren MTTZO \, Rüti\, Rüti\, ZH\, 8630\, Sch
 weiz
GEO:47.2604795;8.854066200000034
X-APPLE-STRUCTURED-LOCATION;VALUE=URI;X-ADDRESS=Rüti\, Rüti\, ZH\, 8630\,
  Schweiz;X-APPLE-RADIUS=100;X-TITLE=20 Jahr Jubiläums-Fahren MTTZO :geo:4
 7.2604795,8.854066200000034
END:VEVENT
END:VCALENDAR