BEGIN:VCALENDAR
VERSION:2.0
PRODID:-//wp-events-plugin.com//7.2.3.1//EN
BEGIN:VEVENT
UID:45@funktionsmodellbau.ch
DTSTART:20160109T090000Z
DTEND:20160110T170000Z
DTSTAMP:20160108T124528Z
URL:https://www.funktionsmodellbau.ch/content/veranstaltungen/12-neujahrsf
 ahren-mini-trucker-herisau-2016/
SUMMARY:12. Neujahrsfahren Mini Trucker Herisau 2016 - Neujahrsfahren Heris
 au - 9 Jan. 16 10:00
DESCRIPTION:\nBereits zum 12. Mal findet das Neujahrsfahren in Herisau stat
 t. Anmeldung für Fahrer ist obligatorisch -> http://www.miniroutiers.ch\n
 \n
LOCATION:Neujahrsfahren Herisau\, Sporthalle Ebnet\, Herisau\, 9100\, Schwe
 iz
GEO:47.3857009;9.27984719999995
X-APPLE-STRUCTURED-LOCATION;VALUE=URI;X-ADDRESS=Sporthalle Ebnet\, Herisau\
 , 9100\, Schweiz;X-APPLE-RADIUS=100;X-TITLE=Neujahrsfahren Herisau:geo:47.
 3857009,9.27984719999995
END:VEVENT
END:VCALENDAR