BEGIN:VCALENDAR
VERSION:2.0
PRODID:-//wp-events-plugin.com//7.2.3.1//EN
BEGIN:VEVENT
UID:38@funktionsmodellbau.ch
DTSTART;VALUE=DATE:20141025
DTEND;VALUE=DATE:20141026
DTSTAMP:20140905T185158Z
URL:https://www.funktionsmodellbau.ch/content/veranstaltungen/1-anbaggern-
 team-energy/
SUMMARY:1. Anbaggern - Team Energy  - 1. Anbaggern Oberburg BE - 25 Okt. 14
  10:00
DESCRIPTION:Der Anlass findet am 25. und 26. Oktober 2014 bei uns an der Kr
 auchthalstrasse 14 in 3414 Oberburg BE statt.\n\nSamstag: 10.00 Uhr bis de
 r Letzte nach Hause will :-)\nSonntag: 10.00 Uhr bis ca 17.00 Uhr\n\nMehr 
 Infos: Team Energy
LOCATION:1. Anbaggern Oberburg BE\, Krauchthalstrasse 14\, Oberburg\, BE\, 
 3414\, Schweiz
GEO:47.0385986;7.623709500000018
X-APPLE-STRUCTURED-LOCATION;VALUE=URI;X-ADDRESS=Krauchthalstrasse 14\, Ober
 burg\, BE\, 3414\, Schweiz;X-APPLE-RADIUS=100;X-TITLE=1. Anbaggern Oberbur
 g BE:geo:47.0385986,7.623709500000018
END:VEVENT
END:VCALENDAR